BEGIN:VCALENDAR
VERSION:2.0
PRODID:-//wp-events-plugin.com//7.2.3.1//EN
TZID:America/Chicago
X-WR-TIMEZONE:America/Chicago
BEGIN:VEVENT
UID:24@claudetest.rws-advisors.org
DTSTART;TZID=America/Chicago:20301231T000000
DTEND;TZID=America/Chicago:20301231T000000
DTSTAMP:20260210T204944Z
URL:https://claudetest.rws-advisors.org/event/mark-dillon-presentation-rev
 -e-b-gauverau-and-the-former-beardsley-minnesota-church-of-st-mary/
SUMMARY:Mark Dillon Presentation: Rev. E.B. Gauverau\, and the former Beard
 sley\, Minnesota\, Church of St. Mary.
DESCRIPTION:
CATEGORIES:Proposed
END:VEVENT
BEGIN:VTIMEZONE
TZID:America/Chicago
X-LIC-LOCATION:America/Chicago
BEGIN:STANDARD
DTSTART:20301103T010000
TZOFFSETFROM:-0500
TZOFFSETTO:-0600
TZNAME:CST
END:STANDARD
END:VTIMEZONE
END:VCALENDAR