BEGIN:VCALENDAR
VERSION:2.0
PRODID:-//wp-events-plugin.com//7.2.3.1//EN
TZID:America/Chicago
X-WR-TIMEZONE:America/Chicago
BEGIN:VEVENT
UID:10@claudetest.rws-advisors.org
DTSTART;TZID=America/Chicago:20250201T000000
DTEND;TZID=America/Chicago:20250228T000000
DTSTAMP:20260205T204545Z
URL:https://claudetest.rws-advisors.org/event/godfrey-house-presentation/
SUMMARY:Godfrey House Presentation
DESCRIPTION:
ATTACH;FMTTYPE=image/jpeg:https://claudetest.rws-advisors.org/wp-content/u
 ploads/2026/02/chute_square_park_ardgodfreyhouse.jpg
CATEGORIES:Presentation
LOCATION:Ard Godfrey House\, 28 University Ave. SE\, Minneapolis\, MN\, 554
 14\, United States
X-APPLE-STRUCTURED-LOCATION;VALUE=URI;X-ADDRESS=28 University Ave. SE\, Min
 neapolis\, MN\, 55414\, United States;X-APPLE-RADIUS=100;X-TITLE=Ard Godfr
 ey House:geo:0,0
END:VEVENT
BEGIN:VTIMEZONE
TZID:America/Chicago
X-LIC-LOCATION:America/Chicago
BEGIN:STANDARD
DTSTART:20241103T010000
TZOFFSETFROM:-0500
TZOFFSETTO:-0600
TZNAME:CST
END:STANDARD
END:VTIMEZONE
END:VCALENDAR