BEGIN:VCALENDAR
VERSION:2.0
PRODID:-//wp-events-plugin.com//7.2.3.1//EN
TZID:America/Chicago
X-WR-TIMEZONE:America/Chicago
BEGIN:VEVENT
UID:23@claudetest.rws-advisors.org
DTSTART;TZID=America/Chicago:20301231T000000
DTEND;TZID=America/Chicago:20301231T000000
DTSTAMP:20260210T204853Z
URL:https://claudetest.rws-advisors.org/event/danielle-enblom-presentation
 -tremblay-nadon-ancestral-connections-among-quebec-manitoba-minnesota-and-
 the-metis-nation/
SUMMARY:Danielle Enblom Presentation: Tremblay / Nadon Ancestral Connection
 s Among Québec\, Manitoba\, Minnesota\, and the Métis Nation.
DESCRIPTION:
CATEGORIES:Proposed
END:VEVENT
BEGIN:VTIMEZONE
TZID:America/Chicago
X-LIC-LOCATION:America/Chicago
BEGIN:STANDARD
DTSTART:20301103T010000
TZOFFSETFROM:-0500
TZOFFSETTO:-0600
TZNAME:CST
END:STANDARD
END:VTIMEZONE
END:VCALENDAR